BEGIN:VCALENDAR
VERSION:2.0
PRODID:-//Google Inc//Google Calendar 70.9054//EN
CALSCALE:GREGORIAN
METHOD:PUBLISH
X-WR-CALNAME:Team Network
X-ORIGINAL-URL: https://teamnetwork.affnetz.com
X-WR-CALDESC:Events for Team Network
BEGIN:VTIMEZONE
TZID:UTC
BEGIN:STANDARD
TZOFFSETFROM:+0000
TZOFFSETTO:+0000
TZNAME:UTC
END:STANDARD
END:VTIMEZONE
BEGIN:VEVENT
DTSTART:20250311T120000Z
DTEND:20250311T133000Z
DTSTAMP:20250311T120000Z
CREATED:20250305T164555Z
LAST-MODIFIED:20250325T221342Z
ORGANIZER:mailto:ksturm@focalpointcoaching.com
UID:34a16e18d1cb2022b05d5068caff007c@
SUMMARY:Team Network Tysons ZOOM
DESCRIPTION:Team Network Tysons - ZOOM Networking every Tuesday except the 1st Tuesday in-person.
We meet every Tuesday 8:00-9:00 am unless previously announced.
URL:https://teamnetwork.affnetz.com/e/10061/team-network-tysons-zoom
LOCATION:
CATEGORIES:Event
END:VEVENT
END:VCALENDAR