BEGIN:VCALENDAR
VERSION:2.0
PRODID:-//Google Inc//Google Calendar 70.9054//EN
CALSCALE:GREGORIAN
METHOD:PUBLISH
X-WR-CALNAME:Team Network
X-ORIGINAL-URL: https://teamnetwork.affnetz.com
X-WR-CALDESC:Events for Team Network
BEGIN:VTIMEZONE
TZID:UTC
BEGIN:STANDARD
TZOFFSETFROM:+0000
TZOFFSETTO:+0000
TZNAME:UTC
END:STANDARD
END:VTIMEZONE
BEGIN:VEVENT
DTSTART:20250304T130000Z
DTEND:20250304T143000Z
DTSTAMP:20250304T130000Z
CREATED:20250220T194317Z
LAST-MODIFIED:20250430T192346Z
ORGANIZER:mailto:ksturm@focalpointcoaching.com
UID:b60cf5b979b450c60616e70bba71b1c6@
SUMMARY:Team Network Tysons IN-PERSON TUESDAY AM at Courtyard Marriott
DESCRIPTION:Team Network Tysons meets every Tuesday 8:00-9:30 am on Zoom with the exception of the first Tuesday when they meet in-person.
URL:https://teamnetwork.affnetz.com/e/10040/team-network-tysons-in-person-tuesday-am-at-courtyard-marriott
LOCATION:1960-A Chain Bridge Rd, McLean, Virginia, United States - 22102
CATEGORIES:Event
END:VEVENT
END:VCALENDAR